{"text_format":"1","workbook":"xlsx","n_sheets":9,"sheets":["2020-1A","2020-2A","2020-3A","2020-4A","2021-1A","2021-2A","2021-3A","2021-4A","Informes"],"not_rendered":{"charts":4,"images":1,"macros":1,"external_links":0,"defined_names":1,"comments":0,"pivot_tables":0},"unopened":[],"bounds":{"document_bytes":16777216,"sheet_cells":100000,"rows_first":2000,"rows_last":500,"rows_between":2000,"halvings":0,"cell_chars":16384,"cell_head_chars":4096},"cells_cut":0,"cells_raw":0,"read":"whole","date_system":"1900"}

{"sheet":"2020-1A","index":0,"n_rows":10,"n_cols":10,"rows_kept":10,"cut":false,"hidden":false,"merged":[[2,2,2,6],[3,2,3,6],[4,2,4,6],[5,2,5,6],[6,2,6,6]]}
[]
[]
[null,"Grupo de Investigación"]
[null,"Nombre Semillero"]
[null,"Líder Investigación"]
[null,"Año Reporte"]
[null,"Trimestre Reporte"]
[]
[]
[null,"Integrante","Identificación","Tipo","Periodo Ingreso","Estado Académico","Correo Electrónico","Celular","Tema Investigación","Tutor a Cargo"]

{"sheet":"2020-2A","index":1,"n_rows":10,"n_cols":10,"rows_kept":10,"cut":false,"hidden":false,"merged":[[2,2,2,6],[3,2,3,6],[4,2,4,6],[5,2,5,6],[6,2,6,6]]}
[]
[]
[null,"Grupo de Investigación",{"$f":"+'2020-1A'!$C$3","v":0}]
[null,"Nombre Semillero",{"$f":"+'2020-1A'!$C$4","v":0}]
[null,"Líder Investigación",{"$f":"+'2020-1A'!$C$5","v":0}]
[null,"Año Reporte",{"$f":"+'2020-1A'!$C$6","v":0}]
[null,"Trimestre Reporte",{"$f":"+'2020-1A'!$C$7","v":0}]
[]
[]
[null,"Integrante","Identificación","Tipo","Periodo Ingreso","Estado Académico","Correo Electrónico","Celular","Tema Investigación","Tutor a Cargo"]

{"sheet":"2020-3A","index":2,"n_rows":10,"n_cols":10,"rows_kept":10,"cut":false,"hidden":false,"merged":[[2,2,2,6],[3,2,3,6],[4,2,4,6],[5,2,5,6],[6,2,6,6]]}
[]
[]
[null,"Grupo de Investigación",{"$f":"+'2020-1A'!$C$3","v":0}]
[null,"Nombre Semillero",{"$f":"+'2020-1A'!$C$4","v":0}]
[null,"Líder Investigación",{"$f":"+'2020-1A'!$C$5","v":0}]
[null,"Año Reporte",{"$f":"+'2020-1A'!$C$6","v":0}]
[null,"Trimestre Reporte",{"$f":"+'2020-1A'!$C$7","v":0}]
[]
[]
[null,"Integrante","Identificación","Tipo","Periodo Ingreso","Estado Académico","Correo Electrónico","Celular","Tema Investigación","Tutor a Cargo"]

{"sheet":"2020-4A","index":3,"n_rows":10,"n_cols":10,"rows_kept":10,"cut":false,"hidden":false,"merged":[[2,2,2,6],[3,2,3,6],[4,2,4,6],[5,2,5,6],[6,2,6,6]]}
[]
[]
[null,"Grupo de Investigación",{"$f":"+'2020-1A'!$C$3","v":0}]
[null,"Nombre Semillero",{"$f":"+'2020-1A'!$C$4","v":0}]
[null,"Líder Investigación",{"$f":"+'2020-1A'!$C$5","v":0}]
[null,"Año Reporte",{"$f":"+'2020-1A'!$C$6","v":0}]
[null,"Trimestre Reporte",{"$f":"+'2020-1A'!$C$7","v":0}]
[]
[]
[null,"Integrante","Identificación","Tipo","Periodo Ingreso","Estado Académico","Correo Electrónico","Celular","Tema Investigación","Tutor a Cargo"]

{"sheet":"2021-1A","index":4,"n_rows":10,"n_cols":10,"rows_kept":10,"cut":false,"hidden":false,"merged":[[2,2,2,6],[3,2,3,6],[4,2,4,6],[5,2,5,6],[6,2,6,6]]}
[]
[]
[null,"Grupo de Investigación",{"$f":"+'2020-1A'!$C$3","v":0}]
[null,"Nombre Semillero",{"$f":"+'2020-1A'!$C$4","v":0}]
[null,"Líder Investigación",{"$f":"+'2020-1A'!$C$5","v":0}]
[null,"Año Reporte",{"$f":"+'2020-1A'!$C$6","v":0}]
[null,"Trimestre Reporte",{"$f":"+'2020-1A'!$C$7","v":0}]
[]
[]
[null,"Integrante","Identificación","Tipo","Periodo Ingreso","Estado Académico","Correo Electrónico","Celular","Tema Investigación","Tutor a Cargo"]

{"sheet":"2021-2A","index":5,"n_rows":10,"n_cols":10,"rows_kept":10,"cut":false,"hidden":false,"merged":[[2,2,2,6],[3,2,3,6],[4,2,4,6],[5,2,5,6],[6,2,6,6]]}
[]
[]
[null,"Grupo de Investigación",{"$f":"+'2020-1A'!$C$3","v":0}]
[null,"Nombre Semillero",{"$f":"+'2020-1A'!$C$4","v":0}]
[null,"Líder Investigación",{"$f":"+'2020-1A'!$C$5","v":0}]
[null,"Año Reporte",{"$f":"+'2020-1A'!$C$6","v":0}]
[null,"Trimestre Reporte",{"$f":"+'2020-1A'!$C$7","v":0}]
[]
[]
[null,"Integrante","Identificación","Tipo","Periodo Ingreso","Estado Académico","Correo Electrónico","Celular","Tema Investigación","Tutor a Cargo"]

{"sheet":"2021-3A","index":6,"n_rows":10,"n_cols":10,"rows_kept":10,"cut":false,"hidden":false,"merged":[[2,2,2,6],[3,2,3,6],[4,2,4,6],[5,2,5,6],[6,2,6,6]]}
[]
[]
[null,"Grupo de Investigación",{"$f":"+'2020-1A'!$C$3","v":0}]
[null,"Nombre Semillero",{"$f":"+'2020-1A'!$C$4","v":0}]
[null,"Líder Investigación",{"$f":"+'2020-1A'!$C$5","v":0}]
[null,"Año Reporte",{"$f":"+'2020-1A'!$C$6","v":0}]
[null,"Trimestre Reporte",{"$f":"+'2020-1A'!$C$7","v":0}]
[]
[]
[null,"Integrante","Identificación","Tipo","Periodo Ingreso","Estado Académico","Correo Electrónico","Celular","Tema Investigación","Tutor a Cargo"]

{"sheet":"2021-4A","index":7,"n_rows":10,"n_cols":10,"rows_kept":10,"cut":false,"hidden":false,"merged":[[2,2,2,6],[3,2,3,6],[4,2,4,6],[5,2,5,6],[6,2,6,6]]}
[]
[]
[null,"Grupo de Investigación",{"$f":"+'2020-1A'!$C$3","v":0}]
[null,"Nombre Semillero",{"$f":"+'2020-1A'!$C$4","v":0}]
[null,"Líder Investigación",{"$f":"+'2020-1A'!$C$5","v":0}]
[null,"Año Reporte",{"$f":"+'2020-1A'!$C$6","v":0}]
[null,"Trimestre Reporte",{"$f":"+'2020-1A'!$C$7","v":0}]
[]
[]
[null,"Integrante","Identificación","Tipo","Periodo Ingreso","Estado Académico","Correo Electrónico","Celular","Tema Investigación","Tutor a Cargo"]

{"sheet":"Informes","index":8,"n_rows":53,"n_cols":7,"rows_kept":53,"cut":false,"hidden":false,"merged":[[2,1,2,2],[3,1,3,2],[4,1,4,2],[9,1,13,1],[2,3,2,6],[3,3,3,6],[4,3,4,6],[38,1,42,1],[43,1,47,1],[48,1,52,1],[14,1,18,1],[19,1,23,1],[24,1,28,1],[33,1,37,1]]}
[]
[]
[null,"Grupo de Investigación"]
[null,"Nombre Semillero"]
[null,"Líder Investigación"]
[]
[null,"AÑO 2020"]
[]
[null,"Estado","Nivel Académico","2020-1A","2020-2A","2020-3A","2020-4A"]
[null,"Estudiantes Activos Semillero","Técnico Profesional en Procesos Contables",{"$f":"+COUNTIFS('2020-1A'!$F$11:$F$49,Informes!$C10,'2020-1A'!$D$11:$D$49,\"Activo\")","v":0},{"$f":"+COUNTIFS('2020-2A'!$F$11:$F$49,Informes!$C10,'2020-2A'!$D$11:$D$49,\"Activo\")","v":0},{"$f":"+COUNTIFS('2020-3A'!$F$11:$F$49,Informes!$C10,'2020-3A'!$D$11:$D$49,\"Activo\")","v":0},{"$f":"+COUNTIFS('2020-4A'!$F$11:$F$49,Informes!$C10,'2020-4A'!$D$11:$D$49,\"Activo\")","v":0}]
[null,null,"Tecnólogo en Gestión Contable",{"$f":"+COUNTIFS('2020-1A'!$F$11:$F$49,Informes!$C11,'2020-1A'!$D$11:$D$49,\"Activo\")","v":0},{"$f":"+COUNTIFS('2020-2A'!$F$11:$F$49,Informes!$C11,'2020-2A'!$D$11:$D$49,\"Activo\")","v":0},{"$f":"+COUNTIFS('2020-3A'!$F$11:$F$49,Informes!$C11,'2020-3A'!$D$11:$D$49,\"Activo\")","v":0},{"$f":"+COUNTIFS('2020-4A'!$F$11:$F$49,Informes!$C11,'2020-4A'!$D$11:$D$49,\"Activo\")","v":0}]
[null,null,"Profesional en Contaduría Pública",{"$f":"+COUNTIFS('2020-1A'!$F$11:$F$49,Informes!$C12,'2020-1A'!$D$11:$D$49,\"Activo\")","v":0},{"$f":"+COUNTIFS('2020-2A'!$F$11:$F$49,Informes!$C12,'2020-2A'!$D$11:$D$49,\"Activo\")","v":0},{"$f":"+COUNTIFS('2020-3A'!$F$11:$F$49,Informes!$C12,'2020-3A'!$D$11:$D$49,\"Activo\")","v":0},{"$f":"+COUNTIFS('2020-4A'!$F$11:$F$49,Informes!$C12,'2020-4A'!$D$11:$D$49,\"Activo\")","v":0}]
[null,null,"Profesional en Administración de Empresas",{"$f":"+COUNTIFS('2020-1A'!$F$11:$F$49,Informes!$C13,'2020-1A'!$D$11:$D$49,\"Activo\")","v":0},{"$f":"+COUNTIFS('2020-2A'!$F$11:$F$49,Informes!$C13,'2020-2A'!$D$11:$D$49,\"Activo\")","v":0},{"$f":"+COUNTIFS('2020-3A'!$F$11:$F$49,Informes!$C13,'2020-3A'!$D$11:$D$49,\"Activo\")","v":0},{"$f":"+COUNTIFS('2020-4A'!$F$11:$F$49,Informes!$C13,'2020-4A'!$D$11:$D$49,\"Activo\")","v":0}]
[null,null,"TOTAL ESTUDIANTES",{"$f":"SUM(D10:D13)","v":0},{"$f":"SUM(E10:E13)","v":0},0,0]
[null,"Nuevos Estudiantes Semillero","Técnico Profesional en Procesos Contables",{"$f":"+COUNTIFS('2020-1A'!$F$11:$F$49,Informes!$C15,'2020-1A'!$D$11:$D$49,\"Nuevo\")","v":0},{"$f":"+COUNTIFS('2020-2A'!$F$11:$F$49,Informes!$C15,'2020-2A'!$D$11:$D$49,\"Nuevo\")","v":0},{"$f":"+COUNTIFS('2020-3A'!$F$11:$F$49,Informes!$C15,'2020-3A'!$D$11:$D$49,\"Nuevo\")","v":0},{"$f":"+COUNTIFS('2020-4A'!$F$11:$F$49,Informes!$C15,'2020-4A'!$D$11:$D$49,\"Nuevo\")","v":0}]
[null,null,"Tecnólogo en Gestión Contable",{"$f":"+COUNTIFS('2020-1A'!$F$11:$F$49,Informes!$C16,'2020-1A'!$D$11:$D$49,\"Nuevo\")","v":0},{"$f":"+COUNTIFS('2020-2A'!$F$11:$F$49,Informes!$C16,'2020-2A'!$D$11:$D$49,\"Nuevo\")","v":0},{"$f":"+COUNTIFS('2020-3A'!$F$11:$F$49,Informes!$C16,'2020-3A'!$D$11:$D$49,\"Nuevo\")","v":0},{"$f":"+COUNTIFS('2020-4A'!$F$11:$F$49,Informes!$C16,'2020-4A'!$D$11:$D$49,\"Nuevo\")","v":0}]
[null,null,"Profesional en Contaduría Pública",{"$f":"+COUNTIFS('2020-1A'!$F$11:$F$49,Informes!$C17,'2020-1A'!$D$11:$D$49,\"Nuevo\")","v":0},{"$f":"+COUNTIFS('2020-2A'!$F$11:$F$49,Informes!$C17,'2020-2A'!$D$11:$D$49,\"Nuevo\")","v":0},{"$f":"+COUNTIFS('2020-3A'!$F$11:$F$49,Informes!$C17,'2020-3A'!$D$11:$D$49,\"Nuevo\")","v":0},{"$f":"+COUNTIFS('2020-4A'!$F$11:$F$49,Informes!$C17,'2020-4A'!$D$11:$D$49,\"Nuevo\")","v":0}]
[null,null,"Profesional en Administración de Empresas",{"$f":"+COUNTIFS('2020-1A'!$F$11:$F$49,Informes!$C18,'2020-1A'!$D$11:$D$49,\"Nuevo\")","v":0},{"$f":"+COUNTIFS('2020-2A'!$F$11:$F$49,Informes!$C18,'2020-2A'!$D$11:$D$49,\"Nuevo\")","v":0},{"$f":"+COUNTIFS('2020-3A'!$F$11:$F$49,Informes!$C18,'2020-3A'!$D$11:$D$49,\"Nuevo\")","v":0},{"$f":"+COUNTIFS('2020-4A'!$F$11:$F$49,Informes!$C18,'2020-4A'!$D$11:$D$49,\"Nuevo\")","v":0}]
[null,null,"TOTAL ESTUDIANTES",{"$f":"SUM(D15:D18)","v":0},{"$f":"SUM(E15:E18)","v":0},{"$f":"SUM(F15:F18)","v":0},{"$f":"SUM(G15:G18)","v":0}]
[null,"Baja Estudiantes Semillero","Técnico Profesional en Procesos Contables",{"$f":"+COUNTIFS('2020-1A'!$F$11:$F$49,Informes!$C20,'2020-1A'!$D$11:$D$49,\"Baja\")","v":0},{"$f":"+COUNTIFS('2020-2A'!$F$11:$F$49,Informes!$C20,'2020-2A'!$D$11:$D$49,\"Baja\")","v":0},{"$f":"+COUNTIFS('2020-3A'!$F$11:$F$49,Informes!$C20,'2020-3A'!$D$11:$D$49,\"Baja\")","v":0},{"$f":"+COUNTIFS('2020-4A'!$F$11:$F$49,Informes!$C20,'2020-4A'!$D$11:$D$49,\"Baja\")","v":0}]
[null,null,"Tecnólogo en Gestión Contable",{"$f":"+COUNTIFS('2020-1A'!$F$11:$F$49,Informes!$C21,'2020-1A'!$D$11:$D$49,\"Baja\")","v":0},{"$f":"+COUNTIFS('2020-2A'!$F$11:$F$49,Informes!$C21,'2020-2A'!$D$11:$D$49,\"Baja\")","v":0},{"$f":"+COUNTIFS('2020-3A'!$F$11:$F$49,Informes!$C21,'2020-3A'!$D$11:$D$49,\"Baja\")","v":0},{"$f":"+COUNTIFS('2020-4A'!$F$11:$F$49,Informes!$C21,'2020-4A'!$D$11:$D$49,\"Baja\")","v":0}]
[null,null,"Profesional en Contaduría Pública",{"$f":"+COUNTIFS('2020-1A'!$F$11:$F$49,Informes!$C22,'2020-1A'!$D$11:$D$49,\"Baja\")","v":0},{"$f":"+COUNTIFS('2020-2A'!$F$11:$F$49,Informes!$C22,'2020-2A'!$D$11:$D$49,\"Baja\")","v":0},{"$f":"+COUNTIFS('2020-3A'!$F$11:$F$49,Informes!$C22,'2020-3A'!$D$11:$D$49,\"Baja\")","v":0},{"$f":"+COUNTIFS('2020-4A'!$F$11:$F$49,Informes!$C22,'2020-4A'!$D$11:$D$49,\"Baja\")","v":0}]
[null,null,"Profesional en Administración de Empresas",{"$f":"+COUNTIFS('2020-1A'!$F$11:$F$49,Informes!$C23,'2020-1A'!$D$11:$D$49,\"Baja\")","v":0},{"$f":"+COUNTIFS('2020-2A'!$F$11:$F$49,Informes!$C23,'2020-2A'!$D$11:$D$49,\"Baja\")","v":0},{"$f":"+COUNTIFS('2020-3A'!$F$11:$F$49,Informes!$C23,'2020-3A'!$D$11:$D$49,\"Baja\")","v":0},{"$f":"+COUNTIFS('2020-4A'!$F$11:$F$49,Informes!$C23,'2020-4A'!$D$11:$D$49,\"Baja\")","v":0}]
[null,null,"TOTAL ESTUDIANTES",{"$f":"SUM(D20:D23)","v":0},{"$f":"SUM(E20:E23)","v":0},{"$f":"SUM(F20:F23)","v":0},{"$f":"SUM(G20:G23)","v":0}]
[null,"Total Estudiantes Semillero","Técnico Profesional en Procesos Contables",{"$f":"+D10+D15","v":0},{"$f":"+E10+E15","v":0},0,0]
[null,null,"Tecnólogo en Gestión Contable",{"$f":"+D11+D16","v":0},0,0,0]
[null,null,"Profesional en Contaduría Pública",{"$f":"+D12+D17","v":0},0,0,0]
[null,null,"Profesional en Administración de Empresas",{"$f":"+D13+D18","v":0},0,0,0]
[null,null,"TOTAL ESTUDIANTES",{"$f":"SUM(D25:D28)","v":0},{"$f":"SUM(E25:E28)","v":0},0,0]
[]
[null,"AÑO 2021"]
[]
[null,"Estado","Nivel Académico","2021-1A","2021-2A","2021-3A","2021-4A"]
[null,"Estudiantes Activos Semillero","Técnico Profesional en Procesos Contables",{"$f":"+COUNTIFS('2021-1A'!$F$11:$F$49,Informes!$C34,'2021-1A'!$D$11:$D$49,\"Activo\")","v":0},{"$f":"+COUNTIFS('2021-2A'!$F$11:$F$49,Informes!$C34,'2021-2A'!$D$11:$D$49,\"Activo\")","v":0},{"$f":"+COUNTIFS('2021-3A'!$F$11:$F$49,Informes!$C34,'2021-3A'!$D$11:$D$49,\"Activo\")","v":0},{"$f":"+COUNTIFS('2021-4A'!$F$11:$F$49,Informes!$C34,'2021-4A'!$D$11:$D$49,\"Activo\")","v":0}]
[null,null,"Tecnólogo en Gestión Contable",{"$f":"+COUNTIFS('2021-1A'!$F$11:$F$49,Informes!$C35,'2021-1A'!$D$11:$D$49,\"Activo\")","v":0},{"$f":"+COUNTIFS('2021-2A'!$F$11:$F$49,Informes!$C35,'2021-2A'!$D$11:$D$49,\"Activo\")","v":0},{"$f":"+COUNTIFS('2021-3A'!$F$11:$F$49,Informes!$C35,'2021-3A'!$D$11:$D$49,\"Activo\")","v":0},{"$f":"+COUNTIFS('2021-4A'!$F$11:$F$49,Informes!$C35,'2021-4A'!$D$11:$D$49,\"Activo\")","v":0}]
[null,null,"Profesional en Contaduría Pública",{"$f":"+COUNTIFS('2021-1A'!$F$11:$F$49,Informes!$C36,'2021-1A'!$D$11:$D$49,\"Activo\")","v":0},{"$f":"+COUNTIFS('2021-2A'!$F$11:$F$49,Informes!$C36,'2021-2A'!$D$11:$D$49,\"Activo\")","v":0},{"$f":"+COUNTIFS('2021-3A'!$F$11:$F$49,Informes!$C36,'2021-3A'!$D$11:$D$49,\"Activo\")","v":0},{"$f":"+COUNTIFS('2021-4A'!$F$11:$F$49,Informes!$C36,'2021-4A'!$D$11:$D$49,\"Activo\")","v":0}]
[null,null,"Profesional en Administración de Empresas",{"$f":"+COUNTIFS('2021-1A'!$F$11:$F$49,Informes!$C37,'2021-1A'!$D$11:$D$49,\"Activo\")","v":0},{"$f":"+COUNTIFS('2021-2A'!$F$11:$F$49,Informes!$C37,'2021-2A'!$D$11:$D$49,\"Activo\")","v":0},{"$f":"+COUNTIFS('2021-3A'!$F$11:$F$49,Informes!$C37,'2021-3A'!$D$11:$D$49,\"Activo\")","v":0},{"$f":"+COUNTIFS('2021-4A'!$F$11:$F$49,Informes!$C37,'2021-4A'!$D$11:$D$49,\"Activo\")","v":0}]
[null,null,"TOTAL ESTUDIANTES",{"$f":"SUM(D34:D37)","v":0},{"$f":"SUM(E34:E37)","v":0},{"$f":"SUM(F34:F37)","v":0},{"$f":"SUM(G34:G37)","v":0}]
[null,"Nuevos Estudiantes Semillero","Técnico Profesional en Procesos Contables",{"$f":"+COUNTIFS('2021-1A'!$F$11:$F$49,Informes!$C39,'2021-1A'!$D$11:$D$49,\"Nuevo\")","v":0},{"$f":"+COUNTIFS('2021-2A'!$F$11:$F$49,Informes!$C39,'2021-2A'!$D$11:$D$49,\"Nuevo\")","v":0},{"$f":"+COUNTIFS('2021-3A'!$F$11:$F$49,Informes!$C39,'2021-3A'!$D$11:$D$49,\"Nuevo\")","v":0},{"$f":"+COUNTIFS('2021-4A'!$F$11:$F$49,Informes!$C39,'2021-4A'!$D$11:$D$49,\"Nuevo\")","v":0}]
[null,null,"Tecnólogo en Gestión Contable",{"$f":"+COUNTIFS('2021-1A'!$F$11:$F$49,Informes!$C40,'2021-1A'!$D$11:$D$49,\"Nuevo\")","v":0},{"$f":"+COUNTIFS('2021-2A'!$F$11:$F$49,Informes!$C40,'2021-2A'!$D$11:$D$49,\"Nuevo\")","v":0},{"$f":"+COUNTIFS('2021-3A'!$F$11:$F$49,Informes!$C40,'2021-3A'!$D$11:$D$49,\"Nuevo\")","v":0},{"$f":"+COUNTIFS('2021-4A'!$F$11:$F$49,Informes!$C40,'2021-4A'!$D$11:$D$49,\"Nuevo\")","v":0}]
[null,null,"Profesional en Contaduría Pública",{"$f":"+COUNTIFS('2021-1A'!$F$11:$F$49,Informes!$C41,'2021-1A'!$D$11:$D$49,\"Nuevo\")","v":0},{"$f":"+COUNTIFS('2021-2A'!$F$11:$F$49,Informes!$C41,'2021-2A'!$D$11:$D$49,\"Nuevo\")","v":0},{"$f":"+COUNTIFS('2021-3A'!$F$11:$F$49,Informes!$C41,'2021-3A'!$D$11:$D$49,\"Nuevo\")","v":0},{"$f":"+COUNTIFS('2021-4A'!$F$11:$F$49,Informes!$C41,'2021-4A'!$D$11:$D$49,\"Nuevo\")","v":0}]
[null,null,"Profesional en Administración de Empresas",{"$f":"+COUNTIFS('2021-1A'!$F$11:$F$49,Informes!$C42,'2021-1A'!$D$11:$D$49,\"Nuevo\")","v":0},{"$f":"+COUNTIFS('2021-2A'!$F$11:$F$49,Informes!$C42,'2021-2A'!$D$11:$D$49,\"Nuevo\")","v":0},{"$f":"+COUNTIFS('2021-3A'!$F$11:$F$49,Informes!$C42,'2021-3A'!$D$11:$D$49,\"Nuevo\")","v":0},{"$f":"+COUNTIFS('2021-4A'!$F$11:$F$49,Informes!$C42,'2021-4A'!$D$11:$D$49,\"Nuevo\")","v":0}]
[null,null,"TOTAL ESTUDIANTES",{"$f":"SUM(D39:D42)","v":0},{"$f":"SUM(E39:E42)","v":0},{"$f":"SUM(F39:F42)","v":0},{"$f":"SUM(G39:G42)","v":0}]
[null,"Baja Estudiantes Semillero","Técnico Profesional en Procesos Contables",{"$f":"+COUNTIFS('2021-1A'!$F$11:$F$49,Informes!$C44,'2021-1A'!$D$11:$D$49,\"Baja\")","v":0},{"$f":"+COUNTIFS('2021-2A'!$F$11:$F$49,Informes!$C44,'2021-2A'!$D$11:$D$49,\"Baja\")","v":0},{"$f":"+COUNTIFS('2021-3A'!$F$11:$F$49,Informes!$C44,'2021-3A'!$D$11:$D$49,\"Baja\")","v":0},{"$f":"+COUNTIFS('2021-4A'!$F$11:$F$49,Informes!$C44,'2021-4A'!$D$11:$D$49,\"Baja\")","v":0}]
[null,null,"Tecnólogo en Gestión Contable",{"$f":"+COUNTIFS('2021-1A'!$F$11:$F$49,Informes!$C45,'2021-1A'!$D$11:$D$49,\"Baja\")","v":0},{"$f":"+COUNTIFS('2021-2A'!$F$11:$F$49,Informes!$C45,'2021-2A'!$D$11:$D$49,\"Baja\")","v":0},{"$f":"+COUNTIFS('2021-3A'!$F$11:$F$49,Informes!$C45,'2021-3A'!$D$11:$D$49,\"Baja\")","v":0},{"$f":"+COUNTIFS('2021-4A'!$F$11:$F$49,Informes!$C45,'2021-4A'!$D$11:$D$49,\"Baja\")","v":0}]
[null,null,"Profesional en Contaduría Pública",{"$f":"+COUNTIFS('2021-1A'!$F$11:$F$49,Informes!$C46,'2021-1A'!$D$11:$D$49,\"Baja\")","v":0},{"$f":"+COUNTIFS('2021-2A'!$F$11:$F$49,Informes!$C46,'2021-2A'!$D$11:$D$49,\"Baja\")","v":0},{"$f":"+COUNTIFS('2021-3A'!$F$11:$F$49,Informes!$C46,'2021-3A'!$D$11:$D$49,\"Baja\")","v":0},{"$f":"+COUNTIFS('2021-4A'!$F$11:$F$49,Informes!$C46,'2021-4A'!$D$11:$D$49,\"Baja\")","v":0}]
[null,null,"Profesional en Administración de Empresas",{"$f":"+COUNTIFS('2021-1A'!$F$11:$F$49,Informes!$C47,'2021-1A'!$D$11:$D$49,\"Baja\")","v":0},{"$f":"+COUNTIFS('2021-2A'!$F$11:$F$49,Informes!$C47,'2021-2A'!$D$11:$D$49,\"Baja\")","v":0},{"$f":"+COUNTIFS('2021-3A'!$F$11:$F$49,Informes!$C47,'2021-3A'!$D$11:$D$49,\"Baja\")","v":0},{"$f":"+COUNTIFS('2021-4A'!$F$11:$F$49,Informes!$C47,'2021-4A'!$D$11:$D$49,\"Baja\")","v":0}]
[null,null,"TOTAL ESTUDIANTES",{"$f":"SUM(D44:D47)","v":0},{"$f":"SUM(E44:E47)","v":0},{"$f":"SUM(F44:F47)","v":0},{"$f":"SUM(G44:G47)","v":0}]
[null,"Total Estudiantes Semillero","Técnico Profesional en Procesos Contables",{"$f":"+D34+D39","v":0},{"$f":"+E34+E39","v":0},0,0]
[null,null,"Tecnólogo en Gestión Contable",{"$f":"+D35+D40","v":0},0,0,0]
[null,null,"Profesional en Contaduría Pública",{"$f":"+D36+D41","v":0},0,0,0]
[null,null,"Profesional en Administración de Empresas",{"$f":"+D37+D42","v":0},0,0,0]
[null,null,"TOTAL ESTUDIANTES",{"$f":"SUM(D49:D52)","v":0},{"$f":"SUM(E49:E52)","v":0},{"$f":"SUM(F49:F52)","v":0},{"$f":"SUM(G49:G52)","v":0}]